BEGIN:VCALENDAR
VERSION:2.0
PRODID:icalendar-ruby
CALSCALE:GREGORIAN
METHOD:PUBLISH
BEGIN:VEVENT
DTSTAMP:20260419T123702Z
UID:5-397784@springhill.tithelysetup2.com
DTSTART:20261025T173000Z
DTEND:20261025T183000Z
CLASS:PUBLIC
CREATED:20260419T011829
DESCRIPTION:Sunday Worship
LAST-MODIFIED:20260419T011829
LOCATION:
SUMMARY:Sunday Worship
URL;VALUE=URI:https://springhill.tithelysetup2.com/events/sunday-worship/20
 26-10-25
END:VEVENT
END:VCALENDAR
